BEGIN:VCALENDAR
VERSION:2.0
PRODID:-//Tukios.com/
BEGIN:VEVENT
UID:7fc1253a-1791-4c3f-8ef8-bae711a81306@obituaries.lohmanfuneralhomes.com
DTSTAMP:20260422T221339Z
DTSTART:20260501T140000Z
DTEND:20260501T150000Z
SUMMARY:Celebration of Life
DESCRIPTION:
URL:https://obituaries.lohmanfuneralhomes.com/obituaries/on-anong-whittington
LOCATION: 1423 Bellevue Ave  Daytona Beach FL 32114
GEO:29.1867234;-81.0367342
END:VEVENT
END:VCALENDAR