BEGIN:VCALENDAR
VERSION:2.0
PRODID:-//Tukios.com/
BEGIN:VEVENT
UID:345009b8-fa06-4cd0-b849-dc5e0ad08045@obituaries.lohmanfuneralhomes.com
DTSTAMP:20260424T215659Z
DTSTART:20260507T180000Z
DTEND:20260507T190000Z
SUMMARY:Memorial Service
DESCRIPTION:
URL:https://obituaries.lohmanfuneralhomes.com/obituaries/david-ruiz
LOCATION:Lohman Funeral Home 733 West Granada Boulevard  Ormond Beach FL 
	32174
GEO:29.2793431;-81.0774616
END:VEVENT
END:VCALENDAR