BEGIN:VCALENDAR
VERSION:2.0
PRODID:-//Tukios.com/
BEGIN:VEVENT
UID:b7398cba-dc64-4926-9bcc-89a42c024d6b@obituaries.lohmanfuneralhomes.com
DTSTAMP:20260421T173801Z
DTSTART:20260429T150000Z
DTEND:20260429T160000Z
SUMMARY:Graveside Service
DESCRIPTION:
URL:https://obituaries.lohmanfuneralhomes.com/obituaries/carl-rubright
LOCATION:Woodland Cemetery 399 Orange Avenue  Port Orange FL 32127
GEO:29.1349294;-80.9874527
END:VEVENT
END:VCALENDAR